BEGIN:VCALENDAR
VERSION:2.0
PRODID:-//The District | Quincy, Illinois - ECPv6.15.20//NONSGML v1.0//EN
CALSCALE:GREGORIAN
METHOD:PUBLISH
X-ORIGINAL-URL:https://www.thedistrictquincy.com
X-WR-CALDESC:Events for The District | Quincy, Illinois
REFRESH-INTERVAL;VALUE=DURATION:PT1H
X-Robots-Tag:noindex
X-PUBLISHED-TTL:PT1H
BEGIN:VTIMEZONE
TZID:America/Chicago
BEGIN:DAYLIGHT
TZOFFSETFROM:-0600
TZOFFSETTO:-0500
TZNAME:CDT
DTSTART:20240310T080000
END:DAYLIGHT
BEGIN:STANDARD
TZOFFSETFROM:-0500
TZOFFSETTO:-0600
TZNAME:CST
DTSTART:20241103T070000
END:STANDARD
BEGIN:DAYLIGHT
TZOFFSETFROM:-0600
TZOFFSETTO:-0500
TZNAME:CDT
DTSTART:20250309T080000
END:DAYLIGHT
BEGIN:STANDARD
TZOFFSETFROM:-0500
TZOFFSETTO:-0600
TZNAME:CST
DTSTART:20251102T070000
END:STANDARD
BEGIN:DAYLIGHT
TZOFFSETFROM:-0600
TZOFFSETTO:-0500
TZNAME:CDT
DTSTART:20260308T080000
END:DAYLIGHT
BEGIN:STANDARD
TZOFFSETFROM:-0500
TZOFFSETTO:-0600
TZNAME:CST
DTSTART:20261101T070000
END:STANDARD
END:VTIMEZONE
BEGIN:VEVENT
DTSTART;TZID=America/Chicago:20250914T163000
DTEND;TZID=America/Chicago:20250914T193000
DTSTAMP:20260425T130821
CREATED:20250711T213853Z
LAST-MODIFIED:20250711T213854Z
UID:27802-1757867400-1757878200@www.thedistrictquincy.com
SUMMARY:Feast in the Heart of Quincy
DESCRIPTION:TICKETS GO ON SALE THURSDAY AUGUST 1. \n\n\n\nSAVE THE DATE for The District Feast in the Heart of Quincy – Farm to Table Dinner presented by Quincy Medical Group – Sunday\, September 14\, 2025. \n\n\n\nBe our guest as we host 200 District friends at one long table down the middle of Hampshire Street – near Platt Daddy BBQ and Thyme Square – between 6th & 7th streets. \n\n\n\nCocktail Hour 4:30-5:30pmFeaturing two signature cocktails by Platt Daddy BBQ \n\n\n\nDinner 5:30-7:30pmThe 2025 Feast head chef is Jeremy Platt\, owner of Platt Daddy BBQ\, will be overseeing the night’s 5-course meal that will feature meat from EIO Farms. Chefs from Thyme Square and Krazy Cakes will also be a part of this event. \n\n\n\nTICKETS ON SALE THURSDAY AUGUST 1. \n\n\n\nTickets are $200 for a pair and will go on sale Thursday\, August 14. Please note – all tickets are sold in pairs of 2 due to seating arrangements. \n\n\n\nAdditional information – including details about the ‘Win the bar’ raffle will be announced soon! \n\n\n\nFeast in the Heart of Quincy benefits The District and its Quincy Farmers Market. This Quincy tradition is prepared using the freshest ingredients from local farmers\, many of which can be found at The District Quincy Farmers Market held Saturdays\, now through October\, 8am-1pm in Washington Park
URL:https://www.thedistrictquincy.com/event/feast-in-the-heart-of-quincy-2/
LOCATION:Platt Daddy’s BBQ\, 605 Hampshire\, Quincy\, Illinois\, 62301-3013
ATTACH;FMTTYPE=image/jpeg:https://www.thedistrictquincy.com/wp-content/uploads/2025/07/Feast_Webheader-1-scaled.jpg
END:VEVENT
END:VCALENDAR