BEGIN:VCALENDAR
VERSION:2.0
PRODID:-//The District | Quincy, Illinois - ECPv6.15.20//NONSGML v1.0//EN
CALSCALE:GREGORIAN
METHOD:PUBLISH
X-ORIGINAL-URL:https://www.thedistrictquincy.com
X-WR-CALDESC:Events for The District | Quincy, Illinois
REFRESH-INTERVAL;VALUE=DURATION:PT1H
X-Robots-Tag:noindex
X-PUBLISHED-TTL:PT1H
BEGIN:VTIMEZONE
TZID:America/Chicago
BEGIN:DAYLIGHT
TZOFFSETFROM:-0600
TZOFFSETTO:-0500
TZNAME:CDT
DTSTART:20240310T080000
END:DAYLIGHT
BEGIN:STANDARD
TZOFFSETFROM:-0500
TZOFFSETTO:-0600
TZNAME:CST
DTSTART:20241103T070000
END:STANDARD
BEGIN:DAYLIGHT
TZOFFSETFROM:-0600
TZOFFSETTO:-0500
TZNAME:CDT
DTSTART:20250309T080000
END:DAYLIGHT
BEGIN:STANDARD
TZOFFSETFROM:-0500
TZOFFSETTO:-0600
TZNAME:CST
DTSTART:20251102T070000
END:STANDARD
BEGIN:DAYLIGHT
TZOFFSETFROM:-0600
TZOFFSETTO:-0500
TZNAME:CDT
DTSTART:20260308T080000
END:DAYLIGHT
BEGIN:STANDARD
TZOFFSETFROM:-0500
TZOFFSETTO:-0600
TZNAME:CST
DTSTART:20261101T070000
END:STANDARD
END:VTIMEZONE
BEGIN:VEVENT
DTSTART;TZID=America/Chicago:20251130T084500
DTEND;TZID=America/Chicago:20251130T094500
DTSTAMP:20260421T112130
CREATED:20251119T162126Z
LAST-MODIFIED:20251121T131636Z
UID:28020-1764492300-1764495900@www.thedistrictquincy.com
SUMMARY:All Music Morning Service
DESCRIPTION:All Music Morning Service \nSunday\, November 30 at 8:45 a.m.Union United Methodist Church – 1101 State Street\, Quincy \nJoin us for a special All Music Worship Service on the first Sunday of Advent. Enjoy extended musical selections featuring the Union Choir with director Tina Bunte\, congregational hymns led by Michael Perkins and Doris Sanders\, and guest musicians Camber Flick (oboe) and Jeffrey Doll (trumpet) from Lexington\, Kentucky. \nMusic will include “Sing Noel: A Christmas Fanfare\,” “O Come\, O Come\, Emmanuel\,” and “Still a Bach Christmas.” Cathy Flick\, Music Director\, will accompany on piano. \nBring family and friends as we prepare our hearts for the Advent season through music and worship.All are welcome! \nWorship. Serve. Learn. \nContact Us:Church office: (217) 223-6062Church office email: quincyuumcsecretary@gmail.com \n 
URL:https://www.thedistrictquincy.com/event/all-music-morning-service/
LOCATION:Illinois
ATTACH;FMTTYPE=image/jpeg:https://www.thedistrictquincy.com/wp-content/uploads/2025/11/All-Music-Sunday.jpg
END:VEVENT
END:VCALENDAR