BEGIN:VCALENDAR
VERSION:2.0
PRODID:-//The District | Quincy, Illinois - ECPv6.15.20//NONSGML v1.0//EN
CALSCALE:GREGORIAN
METHOD:PUBLISH
X-WR-CALNAME:The District | Quincy, Illinois
X-ORIGINAL-URL:https://www.thedistrictquincy.com
X-WR-CALDESC:Events for The District | Quincy, Illinois
REFRESH-INTERVAL;VALUE=DURATION:PT1H
X-Robots-Tag:noindex
X-PUBLISHED-TTL:PT1H
BEGIN:VTIMEZONE
TZID:America/Chicago
BEGIN:DAYLIGHT
TZOFFSETFROM:-0600
TZOFFSETTO:-0500
TZNAME:CDT
DTSTART:20240310T080000
END:DAYLIGHT
BEGIN:STANDARD
TZOFFSETFROM:-0500
TZOFFSETTO:-0600
TZNAME:CST
DTSTART:20241103T070000
END:STANDARD
BEGIN:DAYLIGHT
TZOFFSETFROM:-0600
TZOFFSETTO:-0500
TZNAME:CDT
DTSTART:20250309T080000
END:DAYLIGHT
BEGIN:STANDARD
TZOFFSETFROM:-0500
TZOFFSETTO:-0600
TZNAME:CST
DTSTART:20251102T070000
END:STANDARD
BEGIN:DAYLIGHT
TZOFFSETFROM:-0600
TZOFFSETTO:-0500
TZNAME:CDT
DTSTART:20260308T080000
END:DAYLIGHT
BEGIN:STANDARD
TZOFFSETFROM:-0500
TZOFFSETTO:-0600
TZNAME:CST
DTSTART:20261101T070000
END:STANDARD
END:VTIMEZONE
BEGIN:VEVENT
DTSTART;TZID=America/Chicago:20251214T170000
DTEND;TZID=America/Chicago:20251214T180000
DTSTAMP:20260423T061003
CREATED:20251110T182936Z
LAST-MODIFIED:20251110T202636Z
UID:27998-1765731600-1765735200@www.thedistrictquincy.com
SUMMARY:Blue Christmas Service
DESCRIPTION:Blue Christmas Service Offers Comfort and Hope During the Holiday SeasonA Service of Remembrance & Hope Sunday\, Dec. 14\, 2025 · 5 pm \nThe holiday season can be a time of joy for many\, but for others it can bring feelings of grief\, loneliness\, or heartache. To provide a space for comfort and reflection\, Union United Methodist Church will host its annual Blue Christmas Service on Sunday\, Dec. 14\, 2025\, at 5 pm\, at 1101 State Street in Quincy. \nThis Service of remembrance and hope is a gentle\, contemplative worship experience designed for anyone who is hurting or struggling during the Christmas season. It offers a time to honor loved ones who have passed\, acknowledge personal losses\, and find encouragement through God’s presence and community support. \nThe service is hosted in partnership with Melrose Chapel United Methodist Church and Vermont Street United Methodist Church\, reflecting a shared ministry of compassion and care within the Quincy faith community. \n“All are welcome\,” said Paster Marty Pressey. “Whether you’re grieving a loss\, facing a difficult season\, or simply need a quiet moment of peace\, this service reminds us that we are not alone. God meets us in our sorrow and offers healing and hope.” \nThe Blue Christmas Service is open to all and free to attend. \nFor more information\, please contact Union United Methodist Church at (217) 223-6062 or visit unionunitedmc.com/
URL:https://www.thedistrictquincy.com/event/blue-christmas-service/
LOCATION:Illinois
ATTACH;FMTTYPE=image/png:https://www.thedistrictquincy.com/wp-content/uploads/2025/11/Blue_ChristmasGraphic.png
END:VEVENT
END:VCALENDAR