BEGIN:VCALENDAR
VERSION:2.0
PRODID:-//The District | Quincy, Illinois - ECPv6.15.20//NONSGML v1.0//EN
CALSCALE:GREGORIAN
METHOD:PUBLISH
X-ORIGINAL-URL:https://www.thedistrictquincy.com
X-WR-CALDESC:Events for The District | Quincy, Illinois
REFRESH-INTERVAL;VALUE=DURATION:PT1H
X-Robots-Tag:noindex
X-PUBLISHED-TTL:PT1H
BEGIN:VTIMEZONE
TZID:America/Chicago
BEGIN:DAYLIGHT
TZOFFSETFROM:-0600
TZOFFSETTO:-0500
TZNAME:CDT
DTSTART:20250309T080000
END:DAYLIGHT
BEGIN:STANDARD
TZOFFSETFROM:-0500
TZOFFSETTO:-0600
TZNAME:CST
DTSTART:20251102T070000
END:STANDARD
BEGIN:DAYLIGHT
TZOFFSETFROM:-0600
TZOFFSETTO:-0500
TZNAME:CDT
DTSTART:20260308T080000
END:DAYLIGHT
BEGIN:STANDARD
TZOFFSETFROM:-0500
TZOFFSETTO:-0600
TZNAME:CST
DTSTART:20261101T070000
END:STANDARD
BEGIN:DAYLIGHT
TZOFFSETFROM:-0600
TZOFFSETTO:-0500
TZNAME:CDT
DTSTART:20270314T080000
END:DAYLIGHT
BEGIN:STANDARD
TZOFFSETFROM:-0500
TZOFFSETTO:-0600
TZNAME:CST
DTSTART:20271107T070000
END:STANDARD
END:VTIMEZONE
BEGIN:VEVENT
DTSTART;TZID=America/Chicago:20260201T140000
DTEND;TZID=America/Chicago:20260201T180000
DTSTAMP:20260423T060933
CREATED:20260125T134902Z
LAST-MODIFIED:20260126T023241Z
UID:28139-1769954400-1769968800@www.thedistrictquincy.com
SUMMARY:Pints & Pieces
DESCRIPTION:Think you’ve got the fastest puzzle crew in Quincy?\nJoin us for a 500-piece puzzle competition where proceeds benefit the Dancer Love Foundation 💙\n👥 24 teams max\n💵 $50 per team (1–4 people)\n🕑 Starts promptly at 2:00 PM\n🎲 At 2PM\, a teammate will blindly draw your team’s puzzle\n🏁 First team to finish wins!\n🏆 Prize: Bragging rights + a crowler for each winning teammate 🍻\n📌 Important: Puzzles stay at the brewery (no take-home puzzles)\n✅ Sign up now: www.quincybrewingcompany.com
URL:https://www.thedistrictquincy.com/event/pints-pieces/
LOCATION:Illinois
ATTACH;FMTTYPE=image/jpeg:https://www.thedistrictquincy.com/wp-content/uploads/2026/01/QBCo_Pieces.jpg
END:VEVENT
END:VCALENDAR