BEGIN:VCALENDAR
VERSION:2.0
PRODID:-//The District | Quincy, Illinois - ECPv6.15.20//NONSGML v1.0//EN
CALSCALE:GREGORIAN
METHOD:PUBLISH
X-ORIGINAL-URL:https://www.thedistrictquincy.com
X-WR-CALDESC:Events for The District | Quincy, Illinois
REFRESH-INTERVAL;VALUE=DURATION:PT1H
X-Robots-Tag:noindex
X-PUBLISHED-TTL:PT1H
BEGIN:VTIMEZONE
TZID:America/Chicago
BEGIN:DAYLIGHT
TZOFFSETFROM:-0600
TZOFFSETTO:-0500
TZNAME:CDT
DTSTART:20250309T080000
END:DAYLIGHT
BEGIN:STANDARD
TZOFFSETFROM:-0500
TZOFFSETTO:-0600
TZNAME:CST
DTSTART:20251102T070000
END:STANDARD
BEGIN:DAYLIGHT
TZOFFSETFROM:-0600
TZOFFSETTO:-0500
TZNAME:CDT
DTSTART:20260308T080000
END:DAYLIGHT
BEGIN:STANDARD
TZOFFSETFROM:-0500
TZOFFSETTO:-0600
TZNAME:CST
DTSTART:20261101T070000
END:STANDARD
BEGIN:DAYLIGHT
TZOFFSETFROM:-0600
TZOFFSETTO:-0500
TZNAME:CDT
DTSTART:20270314T080000
END:DAYLIGHT
BEGIN:STANDARD
TZOFFSETFROM:-0500
TZOFFSETTO:-0600
TZNAME:CST
DTSTART:20271107T070000
END:STANDARD
END:VTIMEZONE
BEGIN:VEVENT
DTSTART;TZID=America/Chicago:20260604T140000
DTEND;TZID=America/Chicago:20260604T200000
DTSTAMP:20260423T153146
CREATED:20251119T204211Z
LAST-MODIFIED:20260312T184624Z
UID:28021-1780581600-1780603200@www.thedistrictquincy.com
SUMMARY:Inklight Festival
DESCRIPTION:Inklight 2026: A Celebration of Storytelling\, Creativity\, and CommunityJune 4–6\, 2026 • One Event Center • 600 Hampshire St\, Quincy\, IL 62301 \nJoin us for Inklight 2026\, a three-day festival where stories take center stage and creative voices from every corner of the arts come together. Hosted by Indies United Publishing House\, this year’s event welcomes authors\, readers\, filmmakers\, actors\, directors\, and journalists for a weekend of inspiration\, connection\, and celebration. \nWhether you’ve attended one of our past author retreats or are discovering Inklight for the first time\, this year’s festival offers something truly special:• Workshops & Panels with authors\, publishing professionals\, and media experts • The Quincy Film\, Author & Music Festival a full-day celebration of indie storytelling across page and screen • Awards Gala & Dinner honoring literary and artistic excellence • Social Mixer\, Meet & Greet\, and Roundtable Reader & Writer Chats to connect\, collaborate\, and share your journey \nThis year’s festival will be held at the beautifully restored One Event Center in downtown Quincy\, a historic venue filled with vintage charm and creative energy. \nWhether you’re looking to grow your craft\, meet fellow creatives\, or simply celebrate the joy of storytelling\, Inklight 2026 is your place to shine. \nLearn more and register at: www.indiesunited.net/inklight-2026
URL:https://www.thedistrictquincy.com/event/inklight-festival/
LOCATION:Illinois
ATTACH;FMTTYPE=image/jpeg:https://www.thedistrictquincy.com/wp-content/uploads/2025/11/12-INKLIGHT-1.jpg
END:VEVENT
BEGIN:VEVENT
DTSTART;TZID=America/Chicago:20260604T153000
DTEND;TZID=America/Chicago:20260604T173000
DTSTAMP:20260423T153146
CREATED:20260206T203432Z
LAST-MODIFIED:20260312T203334Z
UID:28222-1780587000-1780594200@www.thedistrictquincy.com
SUMMARY:Eat Well\, Live Well
DESCRIPTION:The Kroc Center • Meadows A • 405 Vermont Street • Quincy\, IL 62301 \nJoin us for Eat Well\, Live Well\, a realistic approach to healthy living through evidence‑based nutrition and wellness topics. Each session includes a brief presentation\, Q&A\, and take-home handouts.Members welcome to drop in; non-members please register.  \nMembers: Free | Non-Members: $10Discuss nutrition and lifestyle choices that support heart health.
URL:https://www.thedistrictquincy.com/event/eat-well-live-well-7/
LOCATION:The Salvation Army Ray & Joan Kroc Corps Community Center\, 405 Vermont St.\, Quincy\, Illinois\, 62301\, United States
ATTACH;FMTTYPE=image/jpeg:https://www.thedistrictquincy.com/wp-content/uploads/2026/02/LiveWell_EatWell.jpg
END:VEVENT
END:VCALENDAR