BEGIN:VCALENDAR
VERSION:2.0
PRODID:-//The District | Quincy, Illinois - ECPv6.15.20//NONSGML v1.0//EN
CALSCALE:GREGORIAN
METHOD:PUBLISH
X-WR-CALNAME:The District | Quincy, Illinois
X-ORIGINAL-URL:https://www.thedistrictquincy.com
X-WR-CALDESC:Events for The District | Quincy, Illinois
REFRESH-INTERVAL;VALUE=DURATION:PT1H
X-Robots-Tag:noindex
X-PUBLISHED-TTL:PT1H
BEGIN:VTIMEZONE
TZID:America/Chicago
BEGIN:DAYLIGHT
TZOFFSETFROM:-0600
TZOFFSETTO:-0500
TZNAME:CDT
DTSTART:20250309T080000
END:DAYLIGHT
BEGIN:STANDARD
TZOFFSETFROM:-0500
TZOFFSETTO:-0600
TZNAME:CST
DTSTART:20251102T070000
END:STANDARD
BEGIN:DAYLIGHT
TZOFFSETFROM:-0600
TZOFFSETTO:-0500
TZNAME:CDT
DTSTART:20260308T080000
END:DAYLIGHT
BEGIN:STANDARD
TZOFFSETFROM:-0500
TZOFFSETTO:-0600
TZNAME:CST
DTSTART:20261101T070000
END:STANDARD
BEGIN:DAYLIGHT
TZOFFSETFROM:-0600
TZOFFSETTO:-0500
TZNAME:CDT
DTSTART:20270314T080000
END:DAYLIGHT
BEGIN:STANDARD
TZOFFSETFROM:-0500
TZOFFSETTO:-0600
TZNAME:CST
DTSTART:20271107T070000
END:STANDARD
END:VTIMEZONE
BEGIN:VEVENT
DTSTART;TZID=America/Chicago:20260506T160000
DTEND;TZID=America/Chicago:20260506T200000
DTSTAMP:20260423T032928
CREATED:20260417T161131Z
LAST-MODIFIED:20260417T161856Z
UID:28516-1778083200-1778097600@www.thedistrictquincy.com
SUMMARY:Summber Bash Night Market
DESCRIPTION:Hosted by QBCO + Fawn Berry Apothecary\, Come shop many local and handmade businesses from 4-8. We will have Pizza Wagon on site for purchase in beer garden. Fun opportunity to shop\, drink brews and get some delicious food. Music will be performed by one of our local favorites\, Liz Bentley!\nFeaturing:\nFawn Berry Apothecary\nThe Find Boutique\nRaindrops & Sunshine Children's Boutique\nSweet Lady Janes\nOne Knotty Maker\nDieticians Dog\nVicki Sandercock Art\nLittle Intricate Treats\nYaya Makes\nDrewberry Soap\nNourished Farms Flowers\nFatty K's\nMAE Bees\nMessy Baker \nWe have a special giveaway happening to celebrate the start of the outdoor market season\, first 15 shoppers who spend t least $10 with each vendor get a ticket\, to win a bunch of homemade goods!\nWe are at capacity for 2026 Night Market vendors\, any new applications will be automatically waitlisted for the year\, www.quincymakersmarket.com
URL:https://www.thedistrictquincy.com/event/summber-bash-night-market/
LOCATION:Quincy Brewing Company\, 106 North 6th\, Quincy\, Illinois\, 62301-3013
ATTACH;FMTTYPE=image/jpeg:https://www.thedistrictquincy.com/wp-content/uploads/2026/04/QBCo_NightMarket.jpg
END:VEVENT
BEGIN:VEVENT
DTSTART;TZID=America/Chicago:20260507T153000
DTEND;TZID=America/Chicago:20260507T173000
DTSTAMP:20260423T032929
CREATED:20260206T203319Z
LAST-MODIFIED:20260312T203416Z
UID:28221-1778167800-1778175000@www.thedistrictquincy.com
SUMMARY:Eat Well\, Live Well
DESCRIPTION:The Kroc Center • Meadows A • 405 Vermont Street • Quincy\, IL 62301 \nJoin us for Eat Well\, Live Well\, a realistic approach to healthy living through evidence‑based nutrition and wellness topics. Each session includes a brief presentation\, Q&A\, and take-home handouts.Members welcome to drop in; non-members please register. Members: Free | Non-Members: $10Discuss nutrition and lifestyle choices that support heart health.
URL:https://www.thedistrictquincy.com/event/eat-well-live-well-8/
LOCATION:Illinois
ATTACH;FMTTYPE=image/jpeg:https://www.thedistrictquincy.com/wp-content/uploads/2026/02/LiveWell_EatWell.jpg
END:VEVENT
BEGIN:VEVENT
DTSTART;TZID=America/Chicago:20260509T073000
DTEND;TZID=America/Chicago:20260509T110000
DTSTAMP:20260423T032929
CREATED:20260217T174706Z
LAST-MODIFIED:20260312T183643Z
UID:28255-1778311800-1778324400@www.thedistrictquincy.com
SUMMARY:QMG Foundation Bridge the Gap to Health Race
DESCRIPTION:The Quincy Medical Group Foundation’s Bridge the Gap to Health Race will return for its 26th year on Saturday\, May 9\, 2026. This event continues its tradition of uniting the community for a cause that strengthens and uplifts local families. \n\n\n\nThis year\, the Foundation is proud to partner with Connect Child and Family Solutions\, an organization dedicated to supporting children in foster care and their biological families. The 2026 Bridge the Gap Grant will help fund the renovation of Connect’s visitation space located at 435 Hampshire St. in Quincy. The redesigned space will provide a welcoming\, family-centered environment where children can build and maintain meaningful connections with their parents during the foster care process. It will feature areas for families to share meals\, play\, and create memories together. \n\n\n\nAdditionally\, a portion of the funds raised will support the QMG Foundation’s ongoing initiatives to provide financial assistance to nonprofit organizations that directly impact our community\, with a focus on community development\, health\, and youth initiatives. \n\n\n\nParticipants can choose to join the 5K Walk/Run\, 10K\, Half Marathon\, or the Paul Arndt Kids Fun Run. Runners will cross the Bayview Bridge into Missouri and then loop back across Memorial Bridge into Illinois\, hitting two states in one race! The route will also pass through Maine Street and circle Washington Park\, allowing participants to enjoy the beauty of Downtown Quincy.
URL:https://www.thedistrictquincy.com/event/qmg-foundation-bridge-the-gap-to-health-race/
LOCATION:Illinois
ATTACH;FMTTYPE=image/jpeg:https://www.thedistrictquincy.com/wp-content/uploads/2026/02/2026QMG_BTG.jpg
END:VEVENT
BEGIN:VEVENT
DTSTART;TZID=America/Chicago:20260509T090000
DTEND;TZID=America/Chicago:20260509T160000
DTSTAMP:20260423T032929
CREATED:20260319T200047Z
LAST-MODIFIED:20260320T135714Z
UID:28366-1778317200-1778342400@www.thedistrictquincy.com
SUMMARY:Shop Local Saturday - MOM Edition
DESCRIPTION:The District invites everyone to make this Mother’s Day extra special by shopping locally during its Shop Local Saturday: Mom Edition on May 9\, 9am-4pm.* Gather your friends and enjoy a day filled with exclusive deals\, unique gifts\, and fun shopping experiences at participating businesses throughout The District. Whether looking for fashion\, books\, home decor\, or unique finds\, The District’s local shops are offering special discounts just in time for Mother’s Day. It’s the perfect opportunity to find a meaningful gift. \n\n\n\n“A highlight of this event is the Build-A-Bouquet for Mom promotion\, which adds an extra layer of fun to the shopping experience\,” stated The District Executive Director Brianna Rivera. Local businesses will be participating in this one-of-a-kind event\, where shoppers will have the opportunity to choose from a variety of fresh flowers available in each participating store. By visiting each participating business\, shoppers will be able to gather beautiful blooms and create a personalized bouquet to present to their mom\, someone they care about\, or even keep for themselves. “With a limited number of flowers available\, we encourage everyone to shop early to ensure they get the best selection\,” stated Rivera. Mark your calendars and come experience a day of shopping\, community\, and celebration in The District. A complete list of participating Shop Local Saturday MOM Edition and businesses participating in the Build-A-Bouquet for Mom promotion can be found at TheDistrictQuincy.com.  \n\n\n\n \n\n\n\nSupport local businesses and create lasting memories this Mother’s Day. For more information\, visit TheDistrictQuincy.com or follow us on social media @thedistrictquincy on Facebook and Instagram. \n\n\n\n \n\n\n\n*NOTE: Businesses set their own hours and specials.
URL:https://www.thedistrictquincy.com/event/shop-local-saturday-mom-edition-2/
LOCATION:Illinois
ATTACH;FMTTYPE=image/jpeg:https://www.thedistrictquincy.com/wp-content/uploads/2026/03/2026_SL_Mom_Facebook-Event-Headerindd-1-scaled.jpg
END:VEVENT
BEGIN:VEVENT
DTSTART;TZID=America/Chicago:20260509T190000
DTEND;TZID=America/Chicago:20260509T220000
DTSTAMP:20260423T032929
CREATED:20260415T225008Z
LAST-MODIFIED:20260417T221910Z
UID:28509-1778353200-1778364000@www.thedistrictquincy.com
SUMMARY:Movie Trivia at the Washington Theatre
DESCRIPTION:Looking for a great evening? Gather your team of up to 8 people and register for Movie Trivia at the Washington Theater. 10 great categories! You can bring your own snacks and beverages!Register today at QuincyWashingtonTheater.orgDoors open at 6 and Trivia starts at 7.
URL:https://www.thedistrictquincy.com/event/music-trivia-at-the-washington-theatre/
LOCATION:Washington Theater\, 425 Hampshire\, Quincy\, IL\, 62301\, US
ATTACH;FMTTYPE=image/png:https://www.thedistrictquincy.com/wp-content/uploads/2026/04/WashTheater-Movie-Trivia4.png
END:VEVENT
BEGIN:VEVENT
DTSTART;TZID=America/Chicago:20260518T183000
DTEND;TZID=America/Chicago:20260518T193000
DTSTAMP:20260423T032929
CREATED:20260115T211053Z
LAST-MODIFIED:20260312T184730Z
UID:28095-1779129000-1779132600@www.thedistrictquincy.com
SUMMARY:Special Needs Bingo Night
DESCRIPTION:🎉 Special Needs Bingo Night! 🎉Looking for a fun and welcoming way to spend your evening? Come join us at Union United Methodist Church for Special Needs Bingo Night in Jensen Fellowship Hall!🗓 When: Every 3rd Monday of the month🕡 Time: 6:30 PM – 7:30 PM📍 Where: Jensen Fellowship Hall\, Union UMC\, 1101 State St\, Quincy\, IL 62301Enjoy a joyful night of bingo\, popcorn\, prizes\, and community! 🏆🍿❤️♿ Our facility is fully handicap accessible:➤ Use the Southeast entrance (off the East side of the Sanctuary)➤ Accessible restrooms are located near our worship space\, fellowship hall\, and classrooms.📩 Have questions? Email us at:📧 quincyuumcsecretary@gmail.com🌟 Our Mission:At Union UMC\, we’re all about making disciples who desire to praise Christ through worship\, learning\, and serving our community.🔗 Learn more: http://www.unionunitedmc.com/
URL:https://www.thedistrictquincy.com/event/special-needs-bingo-night-2/
LOCATION:Illinois
ATTACH;FMTTYPE=image/jpeg:https://www.thedistrictquincy.com/wp-content/uploads/2026/01/BINGO-NIGHT-FOR-SPECIAL-NEEDS-2.jpg
END:VEVENT
END:VCALENDAR